BEGIN:VCALENDAR
VERSION:2.0
PRODID:-//Alqhimia Coach México A.C.  - ECPv6.15.15//NONSGML v1.0//EN
CALSCALE:GREGORIAN
METHOD:PUBLISH
X-ORIGINAL-URL:https://alqhimiacoachmexico.com
X-WR-CALDESC:Eventos para Alqhimia Coach México A.C. 
REFRESH-INTERVAL;VALUE=DURATION:PT1H
X-Robots-Tag:noindex
X-PUBLISHED-TTL:PT1H
BEGIN:VTIMEZONE
TZID:UTC
BEGIN:STANDARD
TZOFFSETFROM:+0000
TZOFFSETTO:+0000
TZNAME:UTC
DTSTART:20240101T000000
END:STANDARD
END:VTIMEZONE
BEGIN:VEVENT
DTSTART;TZID=UTC:20250611T090000
DTEND;TZID=UTC:20250611T180000
DTSTAMP:20260421T042923
CREATED:20250603T160013Z
LAST-MODIFIED:20250603T160013Z
UID:2319-1749632400-1749664800@alqhimiacoachmexico.com
SUMMARY:Taller de Constelaciones Sistémicas
DESCRIPTION:𝐓𝐚𝐥𝐥𝐞𝐫 𝐝𝐞 𝐂𝐨𝐧𝐬𝐭𝐞𝐥𝐚𝐜𝐢𝐨𝐧𝐞𝐬 𝐒𝐢𝐬𝐭é𝐦𝐢𝐜𝐚𝐬 𝐈𝐧𝐝𝐢𝐯𝐢𝐝𝐮𝐚𝐥𝐞𝐬\nUn espacio terapéutico para comprender y sanar desde el origen\n\n\nA veces\, nuestras emociones\, conflictos o decisiones parecen no tener una explicación clara. Sin embargo\, muchas de estas experiencias están conectadas con dinámicas familiares inconscientes que influyen en nuestro presente.\n\n\nUna herramienta terapéutica recomendada para quienes tienen conflictos de apertura grupal e interacción\,
URL:https://alqhimiacoachmexico.com/actividades/taller-de-constelaciones-sistemicas-6/
LOCATION:Local 21\, Calz Bellavista 11\, local 21\, Hacienda Ojo de Agua\, Ojo de Agua\, Tecámac\, Estado de México\, 55770\, Mexico
CATEGORIES:Talleres
ATTACH;FMTTYPE=image/png:https://alqhimiacoachmexico.com/wp-content/uploads/2025/06/imagen_2025-06-03_014331193.png
ORGANIZER;CN="Berenice Paredes Duarte":MAILTO:alqhimiacoachmexico@gmail.com
END:VEVENT
END:VCALENDAR