BEGIN:VCALENDAR
VERSION:2.0
PRODID:-//Alqhimia Coach México A.C.  - ECPv6.15.15//NONSGML v1.0//EN
CALSCALE:GREGORIAN
METHOD:PUBLISH
X-ORIGINAL-URL:https://alqhimiacoachmexico.com
X-WR-CALDESC:Eventos para Alqhimia Coach México A.C. 
REFRESH-INTERVAL;VALUE=DURATION:PT1H
X-Robots-Tag:noindex
X-PUBLISHED-TTL:PT1H
BEGIN:VTIMEZONE
TZID:UTC
BEGIN:STANDARD
TZOFFSETFROM:+0000
TZOFFSETTO:+0000
TZNAME:UTC
DTSTART:20240101T000000
END:STANDARD
END:VTIMEZONE
BEGIN:VEVENT
DTSTART;TZID=UTC:20250620T160000
DTEND;TZID=UTC:20250622T130000
DTSTAMP:20260421T042817
CREATED:20250603T162657Z
LAST-MODIFIED:20250603T162657Z
UID:2326-1750435200-1750597200@alqhimiacoachmexico.com
SUMMARY:Campamento Adolescentes - "El Principio Del Guerrero"
DESCRIPTION:CAMPAMENTO ADOLESCENTE De 12 a 17 años“𝙀𝙇 𝙋𝙍𝙄𝙉𝘾𝙄𝙋𝙄𝙊 𝘿𝙀𝙇 𝙂𝙐𝙀𝙍𝙍𝙀𝙍𝙊”20\, 21\, 22 JUNIO / 2025 APARTA TU LUGAREl adolescente esta buscando su identidad\, ayudémosle a que encuentren el acompañamiento confiable. Hablaremos de la familia\, los padres\, los amigos\, la escuela\, las expectativas\, la soledad\, el miedo\, las emociones… Y MUCHO MAS.
URL:https://alqhimiacoachmexico.com/actividades/campamento-adolescentes-el-principio-del-guerrero/
LOCATION:Ruta Magica – Teotihuacan\, San Martín de las piramides\, Teotihuacan\, Estado de México\, 55854\, Mexico
CATEGORIES:El Principio Del Guerrero
ATTACH;FMTTYPE=image/png:https://alqhimiacoachmexico.com/wp-content/uploads/2025/06/imagen_2025-06-03_102610276.png
ORGANIZER;CN="Berenice Paredes Duarte":MAILTO:alqhimiacoachmexico@gmail.com
END:VEVENT
END:VCALENDAR