BEGIN:VCALENDAR
VERSION:2.0
PRODID:-//Alqhimia Coach México A.C.  - ECPv6.15.15//NONSGML v1.0//EN
CALSCALE:GREGORIAN
METHOD:PUBLISH
X-WR-CALNAME:Alqhimia Coach México A.C. 
X-ORIGINAL-URL:https://alqhimiacoachmexico.com
X-WR-CALDESC:Eventos para Alqhimia Coach México A.C. 
REFRESH-INTERVAL;VALUE=DURATION:PT1H
X-Robots-Tag:noindex
X-PUBLISHED-TTL:PT1H
BEGIN:VTIMEZONE
TZID:America/Mexico_City
BEGIN:STANDARD
TZOFFSETFROM:-0600
TZOFFSETTO:-0600
TZNAME:CST
DTSTART:20240101T000000
END:STANDARD
END:VTIMEZONE
BEGIN:VEVENT
DTSTART;TZID=America/Mexico_City:20250628T080000
DTEND;TZID=America/Mexico_City:20250628T170000
DTSTAMP:20260421T042630
CREATED:20250628T181054Z
LAST-MODIFIED:20250628T181152Z
UID:2340-1751097600-1751130000@alqhimiacoachmexico.com
SUMMARY:Domingo 6 de Julio - Taller Para Padres de Hijos Adolescentes
DESCRIPTION:Ahora le toca a los Padres! LOS PADRES SOMOS EL CAMBIO\n¿Te has preguntado si lo estás haciendo bien como papá o mamá?\n\n\n\nLa adolescencia llega sin aviso y sin manual.\nDe repente\, ese niño dulce se convierte en un adolescente desafiante\, silencioso o rebelde… y tú te preguntas:\n¿Qué hice mal? ¿Cómo lo guío sin perderme a mí en el camino? o te vuelves tan desafiante como él/ella?\nEste taller es para ti\, que estás criando a un hijo o hija entre los 12 y 21 años\, y sientes que ser madre o padre nunca ha sido tan complejo como ahora.\nPorque muchas veces criamos desde lo que nos dieron… o desde lo que nos faltó.\nAPARTA TU LUGAR! POCOS LUGARES
URL:https://alqhimiacoachmexico.com/actividades/domingo-6-de-julio-taller-para-padres-de-hijos-adolescentes/
LOCATION:Local 21\, Calz Bellavista 11\, local 21\, Hacienda Ojo de Agua\, Ojo de Agua\, Tecámac\, Estado de México\, 55770\, Mexico
CATEGORIES:Talleres
ATTACH;FMTTYPE=image/png:https://alqhimiacoachmexico.com/wp-content/uploads/2024/10/Recurso-2.png
ORGANIZER;CN="Berenice Paredes Duarte":MAILTO:alqhimiacoachmexico@gmail.com
END:VEVENT
END:VCALENDAR