BEGIN:VCALENDAR
VERSION:2.0
PRODID:-//Alqhimia Coach México A.C.  - ECPv6.15.15//NONSGML v1.0//EN
CALSCALE:GREGORIAN
METHOD:PUBLISH
X-WR-CALNAME:Alqhimia Coach México A.C. 
X-ORIGINAL-URL:https://alqhimiacoachmexico.com
X-WR-CALDESC:Eventos para Alqhimia Coach México A.C. 
REFRESH-INTERVAL;VALUE=DURATION:PT1H
X-Robots-Tag:noindex
X-PUBLISHED-TTL:PT1H
BEGIN:VTIMEZONE
TZID:UTC
BEGIN:STANDARD
TZOFFSETFROM:+0000
TZOFFSETTO:+0000
TZNAME:UTC
DTSTART:20240101T000000
END:STANDARD
END:VTIMEZONE
BEGIN:VEVENT
DTSTART;TZID=UTC:20250629T090000
DTEND;TZID=UTC:20250629T190000
DTSTAMP:20260421T042626
CREATED:20250603T165519Z
LAST-MODIFIED:20250603T165519Z
UID:2333-1751187600-1751223600@alqhimiacoachmexico.com
SUMMARY:Taller temático: "Sanando a papá en mi"
DESCRIPTION:TALLER: SANANDO A PAPÁ EN MÍ \nEl taller te brindará una mayor comprensión de la fuerza de tu padre en tu vida. Podrás descubrir herramientas para liberar tu historia de dolor\, enojo o tristeza en la relación con papá y transformarla en fortalezas para tu vida.
URL:https://alqhimiacoachmexico.com/actividades/taller-tematico-sanando-a-papa-en-mi/
LOCATION:Local 21\, Calz Bellavista 11\, local 21\, Hacienda Ojo de Agua\, Ojo de Agua\, Tecámac\, Estado de México\, 55770\, Mexico
CATEGORIES:Talleres
ATTACH;FMTTYPE=image/png:https://alqhimiacoachmexico.com/wp-content/uploads/2025/06/imagen_2025-06-03_105307300.png
ORGANIZER;CN="Berenice Paredes Duarte":MAILTO:alqhimiacoachmexico@gmail.com
END:VEVENT
END:VCALENDAR