BEGIN:VCALENDAR
VERSION:2.0
PRODID:-//Alqhimia Coach México A.C.  - ECPv6.15.15//NONSGML v1.0//EN
CALSCALE:GREGORIAN
METHOD:PUBLISH
X-ORIGINAL-URL:https://alqhimiacoachmexico.com
X-WR-CALDESC:Eventos para Alqhimia Coach México A.C. 
REFRESH-INTERVAL;VALUE=DURATION:PT1H
X-Robots-Tag:noindex
X-PUBLISHED-TTL:PT1H
BEGIN:VTIMEZONE
TZID:America/Mexico_City
BEGIN:STANDARD
TZOFFSETFROM:-0600
TZOFFSETTO:-0600
TZNAME:CST
DTSTART:20240101T000000
END:STANDARD
END:VTIMEZONE
BEGIN:VEVENT
DTSTART;TZID=America/Mexico_City:20250815T170000
DTEND;TZID=America/Mexico_City:20250817T130000
DTSTAMP:20260421T012944
CREATED:20250809T181441Z
LAST-MODIFIED:20250809T181441Z
UID:2374-1755277200-1755435600@alqhimiacoachmexico.com
SUMMARY:Campamento - "El Sendero del Guerrero"
DESCRIPTION:Camping El Sendero del GuerreroLas responsabilidades de Ser “Adulto”Necesito Ser Adulto y no se cómo?Vamos a charlar de temas como plan de vida\, pareja\, sexo\, dinero\, miedos\, tramites de “adultos”
URL:https://alqhimiacoachmexico.com/actividades/campamento-el-sendero-del-guerrero/
LOCATION:Ruta Magica – Teotihuacan\, San Martín de las piramides\, Teotihuacan\, Estado de México\, 55854\, Mexico
CATEGORIES:El Sendero Del Guerrero
ATTACH;FMTTYPE=image/png:https://alqhimiacoachmexico.com/wp-content/uploads/2025/06/imagen_2025-06-03_102610276.png
ORGANIZER;CN="Berenice Paredes Duarte":MAILTO:alqhimiacoachmexico@gmail.com
END:VEVENT
END:VCALENDAR