BEGIN:VCALENDAR
VERSION:2.0
PRODID:-//Alqhimia Coach México A.C.  - ECPv6.15.15//NONSGML v1.0//EN
CALSCALE:GREGORIAN
METHOD:PUBLISH
X-ORIGINAL-URL:https://alqhimiacoachmexico.com
X-WR-CALDESC:Eventos para Alqhimia Coach México A.C. 
REFRESH-INTERVAL;VALUE=DURATION:PT1H
X-Robots-Tag:noindex
X-PUBLISHED-TTL:PT1H
BEGIN:VTIMEZONE
TZID:America/Mexico_City
BEGIN:STANDARD
TZOFFSETFROM:-0600
TZOFFSETTO:-0600
TZNAME:CST
DTSTART:20240101T000000
END:STANDARD
END:VTIMEZONE
BEGIN:VEVENT
DTSTART;TZID=America/Mexico_City:20251228T090000
DTEND;TZID=America/Mexico_City:20251228T190000
DTSTAMP:20260417T102948
CREATED:20251206T212901Z
LAST-MODIFIED:20251206T212901Z
UID:2396-1766912400-1766948400@alqhimiacoachmexico.com
SUMMARY:Taller Tematico - MI MAPA MAESTRO 2026: Diseño de Vida\, Consciencia y Proposito
DESCRIPTION:¿Listo para salir con un Plan Maestro\, claro\, profundo y práctico\, que te durará todo el año 2026 y te sostendrá como si tuvieras un consejo directivo interno que te guía\, te alinea y te fortalece?“MI MAPA MAESTRO 2026” Diseño de Vida\, Consciencia y PropósitoUn entrenamiento para estructurar tu vida como la empresa más valiosa que tienes: tú.En diciembre abrimos un espacio para construir tu Mapa Maestro 2026\, un modelo integral que abarca tus 8 áreas esenciales de vida y tus 4 consciencias (física\, mental\, emocional y espiritual) para que puedas diseñar tu propio sistema de dirección personal\, tal como las grandes empresas crean su plan estratégico anual.Saldrás con un Plan Maestro impreso o digital\, claro\, profundo y práctico\, que te durará todo el año y te sostendrá como si tuvieras un consejo directivo interno que te guía\, te alinea y te fortalece.No te lo puedes perder este domingo 28 de diciembre a las 9:00 AM\, VISITANOS EN: CALLE BELLAVISTA #10\, LOCAL 2 y 3\, DENTRO DEL DE LA EX- HACIENDA OJO DE AGUA\, TECAMAC\, MEXICO¡Te esperamos! Comunícate con nosotros para mas información  55 4895 9676
URL:https://alqhimiacoachmexico.com/actividades/taller-tematico-mi-mapa-maestro-2026-diseno-de-vida-consciencia-y-proposito/
LOCATION:Local 21\, Calz Bellavista 11\, local 21\, Hacienda Ojo de Agua\, Ojo de Agua\, Tecámac\, Estado de México\, 55770\, Mexico
CATEGORIES:Talleres
ATTACH;FMTTYPE=image/png:https://alqhimiacoachmexico.com/wp-content/uploads/2025/12/imagen_2025-12-06_152837615.png
ORGANIZER;CN="Berenice Paredes Duarte":MAILTO:alqhimiacoachmexico@gmail.com
END:VEVENT
END:VCALENDAR