BEGIN:VCALENDAR
VERSION:2.0
PRODID:-//Alqhimia Coach México A.C.  - ECPv6.15.15//NONSGML v1.0//EN
CALSCALE:GREGORIAN
METHOD:PUBLISH
X-ORIGINAL-URL:https://alqhimiacoachmexico.com
X-WR-CALDESC:Eventos para Alqhimia Coach México A.C. 
REFRESH-INTERVAL;VALUE=DURATION:PT1H
X-Robots-Tag:noindex
X-PUBLISHED-TTL:PT1H
BEGIN:VTIMEZONE
TZID:America/Mexico_City
BEGIN:STANDARD
TZOFFSETFROM:-0600
TZOFFSETTO:-0600
TZNAME:CST
DTSTART:20250101T000000
END:STANDARD
END:VTIMEZONE
BEGIN:VEVENT
DTSTART;TZID=America/Mexico_City:20260220T170000
DTEND;TZID=America/Mexico_City:20260220T190000
DTSTAMP:20260417T180645
CREATED:20251113T100035Z
LAST-MODIFIED:20260207T231417Z
UID:2380-1771606800-1771614000@alqhimiacoachmexico.com
SUMMARY:Circulo de Adolescentes
DESCRIPTION:Un espacio para ti\, donde puedes hablar de tus padres\, tu escuela\, amigos\, pareja\, sexo\, adicciones\, miedos\, orientacion vocacional.\nVEN VAMOS A DIVERTIRNOS Y CHARLAR!\n¡Cupo limitado! No te quedes fuera
URL:https://alqhimiacoachmexico.com/actividades/circulo-de-adolescentes/
LOCATION:Local 21\, Calz Bellavista 11\, local 21\, Hacienda Ojo de Agua\, Ojo de Agua\, Tecámac\, Estado de México\, 55770\, Mexico
CATEGORIES:Circulo de Adolescentes
ATTACH;FMTTYPE=image/png:https://alqhimiacoachmexico.com/wp-content/uploads/2025/06/imagen_2025-06-28_122032591.png
ORGANIZER;CN="Berenice Paredes Duarte":MAILTO:alqhimiacoachmexico@gmail.com
END:VEVENT
END:VCALENDAR