BEGIN:VCALENDAR
VERSION:2.0
PRODID:-//Alqhimia Coach México A.C.  - ECPv6.15.15//NONSGML v1.0//EN
CALSCALE:GREGORIAN
METHOD:PUBLISH
X-WR-CALNAME:Alqhimia Coach México A.C. 
X-ORIGINAL-URL:https://alqhimiacoachmexico.com
X-WR-CALDESC:Eventos para Alqhimia Coach México A.C. 
REFRESH-INTERVAL;VALUE=DURATION:PT1H
X-Robots-Tag:noindex
X-PUBLISHED-TTL:PT1H
BEGIN:VTIMEZONE
TZID:America/Mexico_City
BEGIN:STANDARD
TZOFFSETFROM:-0600
TZOFFSETTO:-0600
TZNAME:CST
DTSTART:20240101T000000
END:STANDARD
END:VTIMEZONE
BEGIN:VEVENT
DTSTART;TZID=America/Mexico_City:20250828T170000
DTEND;TZID=America/Mexico_City:20250828T190000
DTSTAMP:20260421T045632
CREATED:20250810T044908Z
LAST-MODIFIED:20250810T044908Z
UID:2384-1756400400-1756407600@alqhimiacoachmexico.com
SUMMARY:Circulo de Jovenes
DESCRIPTION:¿Tienes dudas sobre tu futuro? ¿No tienes un plan de vida?\n¿Te sientes perdido? ¿Te da miedo hablar de ciertos temas? \nUn espacio seguro donde podrás expresarte libremente\, hablar de los temas que te interesan y escuchar a otros que\, como tú\, buscan ser comprendidos sin juicios.\nAquí te escuchamos y no juzgamos.\nAquí tú eliges los temas. Tú guías la conversación. Sin juicios. Sin presiones. Solo un espacio seguro para compartir\, aprender y crecer juntos. Dos sesiones al mes a las 5 pm. \nPREGUNTA LAS FECHAS MENSUALES.\n¡Cupo limitado! No te quedes fuera
URL:https://alqhimiacoachmexico.com/actividades/circulo-de-jovenes-2/
LOCATION:Local 21\, Calz Bellavista 11\, local 21\, Hacienda Ojo de Agua\, Ojo de Agua\, Tecámac\, Estado de México\, 55770\, Mexico
CATEGORIES:Circulo de Jovenes
ATTACH;FMTTYPE=image/png:https://alqhimiacoachmexico.com/wp-content/uploads/2025/06/imagen_2025-06-03_100931774.png
ORGANIZER;CN="Berenice Paredes Duarte":MAILTO:alqhimiacoachmexico@gmail.com
END:VEVENT
END:VCALENDAR