BEGIN:VCALENDAR
VERSION:2.0
PRODID:-//Alqhimia Coach México A.C.  - ECPv6.15.20//NONSGML v1.0//EN
CALSCALE:GREGORIAN
METHOD:PUBLISH
X-WR-CALNAME:Alqhimia Coach México A.C. 
X-ORIGINAL-URL:https://alqhimiacoachmexico.com
X-WR-CALDESC:Eventos para Alqhimia Coach México A.C. 
REFRESH-INTERVAL;VALUE=DURATION:PT1H
X-Robots-Tag:noindex
X-PUBLISHED-TTL:PT1H
BEGIN:VTIMEZONE
TZID:America/Mexico_City
BEGIN:STANDARD
TZOFFSETFROM:-0600
TZOFFSETTO:-0600
TZNAME:CST
DTSTART:20230101T000000
END:STANDARD
END:VTIMEZONE
BEGIN:VEVENT
DTSTART;TZID=America/Mexico_City:20240720T090000
DTEND;TZID=America/Mexico_City:20240720T190000
DTSTAMP:20260424T002650
CREATED:20240719T221644Z
LAST-MODIFIED:20240719T221644Z
UID:2084-1721466000-1721502000@alqhimiacoachmexico.com
SUMMARY:Taller de Padres de adolescentes ¿Soy un buen padre/madre?
DESCRIPTION:Los retos de la adolescencia. \n\n¿En qué consiste esta etapa?\nMi adolescente\, mi reflejo\n¿Cómo conecto con ellos?\n¿Dónde esta el niño que crie y el niño que yo fui?
URL:https://alqhimiacoachmexico.com/actividades/taller-de-padres-de-adolescentes-soy-un-buen-padre-madre/
LOCATION:Local 21\, Calz Bellavista 11\, local 21\, Hacienda Ojo de Agua\, Ojo de Agua\, Tecámac\, Estado de México\, 55770\, Mexico
CATEGORIES:Talleres
ATTACH;FMTTYPE=image/jpeg:https://alqhimiacoachmexico.com/wp-content/uploads/2024/07/BannerFB-scaled.jpg
ORGANIZER;CN="Berenice Paredes Duarte":MAILTO:alqhimiacoachmexico@gmail.com
END:VEVENT
END:VCALENDAR