BEGIN:VCALENDAR
VERSION:2.0
PRODID:-//Alqhimia Coach México A.C.  - ECPv6.15.15//NONSGML v1.0//EN
CALSCALE:GREGORIAN
METHOD:PUBLISH
X-ORIGINAL-URL:https://alqhimiacoachmexico.com
X-WR-CALDESC:Eventos para Alqhimia Coach México A.C. 
REFRESH-INTERVAL;VALUE=DURATION:PT1H
X-Robots-Tag:noindex
X-PUBLISHED-TTL:PT1H
BEGIN:VTIMEZONE
TZID:America/Mexico_City
BEGIN:STANDARD
TZOFFSETFROM:-0600
TZOFFSETTO:-0600
TZNAME:CST
DTSTART:20250101T000000
END:STANDARD
END:VTIMEZONE
BEGIN:VEVENT
DTSTART;TZID=America/Mexico_City:20260213T190000
DTEND;TZID=America/Mexico_City:20260213T210000
DTSTAMP:20260417T150527
CREATED:20260207T212031Z
LAST-MODIFIED:20260207T212031Z
UID:2400-1771009200-1771016400@alqhimiacoachmexico.com
SUMMARY:Circulo de Hombres
DESCRIPTION:Hay un momento en la vida de todo hombre en el que algo deja de encajar.No necesariamente todo va mal. A veces hay trabajo\, pareja\, familia…pero por dentro hay cansancio\, desconexión o una sensación silenciosa de estar fuera de lugar.El Círculo de Hombres Alqhimia nace para ese momento.No es un espacio para desahogarse sin rumbo.No es terapia grupal.No es un círculo para quejarse de la vida ni para atacar a otros.Es una escuela de consciencia masculina.Aquí trabajamos con hombres que están dispuestos a mirarse con honestidad y a reaprender algo fundamental:cómo habitar su cuerpo\, sentir sin perder fuerza\, pensar desde adultez y ocupar su lugar en la vida.Muchos hombres aprendieron a aguantar\, a callar\, a ser fuertes hacia afuera y duros hacia adentro.Eso no es masculinidad sana\, es supervivencia.En este círculo no buscamos hombres perfectos\, buscamos hombres presentes.Hombres que se permitan sentir\, incluso llorar\, sin perder dignidad.Hombres que entiendan que la sensibilidad no los debilita\, los ordena.Hombres que ya no quieran vivir desde el mandato\, sino desde la consciencia.La metodología Alqhimia integra trabajo corporal\, emocional\, mental y espiritual.No hablamos de teoría solamente: se vive\, se observa y se integra.Este círculo es el primer escalón de un camino más profundo.Un espacio de entrada para quien quiere claridad\, orden interno y dirección\, antes de entrar a procesos terapéuticos o sistémicos más intensos.Aquí no se promete cambiar tu vida en una sesión.Se ofrece algo más honesto: volver al eje.Porque cuando un hombre toma su lugar\, deja de pelear con la vida y empieza a sostenerla.El Círculo de Hombres Alqhimia no es para todos.Es para quien está listo para dejar de huir de sí mismo y comenzar a habitarse con responsabilidad.Qué esperas para apartar tu lugar ¡Te esperamos!
URL:https://alqhimiacoachmexico.com/actividades/circulo-de-hombres/
LOCATION:Local 21\, Calz Bellavista 11\, local 21\, Hacienda Ojo de Agua\, Ojo de Agua\, Tecámac\, Estado de México\, 55770\, Mexico
ATTACH;FMTTYPE=image/png:https://alqhimiacoachmexico.com/wp-content/uploads/2026/02/imagen_2026-02-07_151905827.png
ORGANIZER;CN="Berenice Paredes Duarte":MAILTO:alqhimiacoachmexico@gmail.com
END:VEVENT
END:VCALENDAR