BEGIN:VCALENDAR
VERSION:2.0
PRODID:-//Alqhimia Coach México A.C.  - ECPv6.15.15//NONSGML v1.0//EN
CALSCALE:GREGORIAN
METHOD:PUBLISH
X-ORIGINAL-URL:https://alqhimiacoachmexico.com
X-WR-CALDESC:Eventos para Alqhimia Coach México A.C. 
REFRESH-INTERVAL;VALUE=DURATION:PT1H
X-Robots-Tag:noindex
X-PUBLISHED-TTL:PT1H
BEGIN:VTIMEZONE
TZID:America/Mexico_City
BEGIN:STANDARD
TZOFFSETFROM:-0600
TZOFFSETTO:-0600
TZNAME:CST
DTSTART:20240101T000000
END:STANDARD
END:VTIMEZONE
BEGIN:VEVENT
DTSTART;TZID=America/Mexico_City:20250710T170000
DTEND;TZID=America/Mexico_City:20250710T190000
DTSTAMP:20260421T045848
CREATED:20250628T181609Z
LAST-MODIFIED:20250628T181609Z
UID:2343-1752166800-1752174000@alqhimiacoachmexico.com
SUMMARY:Jueves 10 de Julio - Circulo de Jovenes
DESCRIPTION:¿Tienes dudas sobre tu futuro? ¿No tienes un plan de vida?\n¿Te sientes perdido? ¿Te da miedo hablar de ciertos temas?\n\n\n\n\n\nUn espacio seguro donde podrás expresarte libremente\, hablar de los temas que te interesan y escuchar a otros que\, como tú\, buscan ser comprendidos sin juicios.\nAquí te escuchamos y no juzgamos.\nAquí tú eliges los temas. Tú guías la conversación. Sin juicios. Sin presiones. Solo un espacio seguro para compartir\, aprender y crecer juntos. Dos sesiones al mes a las 5 pm.\nPREGUNTA LAS FECHAS MENSUALES.\n\n\n¡Cupo limitado! No te quedes fuera
URL:https://alqhimiacoachmexico.com/actividades/jueves-10-de-julio-circulo-de-jovenes/
LOCATION:Local 21\, Calz Bellavista 11\, local 21\, Hacienda Ojo de Agua\, Ojo de Agua\, Tecámac\, Estado de México\, 55770\, Mexico
CATEGORIES:Circulo de Jovenes
ATTACH;FMTTYPE=image/png:https://alqhimiacoachmexico.com/wp-content/uploads/2025/06/imagen_2025-06-03_100931774.png
ORGANIZER;CN="Berenice Paredes Duarte":MAILTO:alqhimiacoachmexico@gmail.com
END:VEVENT
BEGIN:VEVENT
DTSTART;TZID=America/Mexico_City:20250717T170000
DTEND;TZID=America/Mexico_City:20250717T190000
DTSTAMP:20260421T045848
CREATED:20250628T182847Z
LAST-MODIFIED:20250628T182847Z
UID:2351-1752771600-1752778800@alqhimiacoachmexico.com
SUMMARY:Jueves 17 de Julio - Circulo de Jovenes (En Linea)
DESCRIPTION:¿Tienes dudas sobre tu futuro? ¿No tienes un plan de vida?\n¿Te sientes perdido? ¿Te da miedo hablar de ciertos temas?\n\n\n\n\n\nUn espacio seguro donde podrás expresarte libremente\, hablar de los temas que te interesan y escuchar a otros que\, como tú\, buscan ser comprendidos sin juicios.\nAquí te escuchamos y no juzgamos.\nAquí tú eliges los temas. Tú guías la conversación. Sin juicios. Sin presiones. Solo un espacio seguro para compartir\, aprender y crecer juntos. Dos sesiones al mes a las 5 pm.\nPREGUNTA LAS FECHAS MENSUALES.\n\n\n¡Cupo limitado! No te quedes fuera
URL:https://alqhimiacoachmexico.com/actividades/jueves-17-de-julio-circulo-de-jovenes-en-linea/
LOCATION:En Linea
CATEGORIES:Circulo de Jovenes
ATTACH;FMTTYPE=image/png:https://alqhimiacoachmexico.com/wp-content/uploads/2025/06/imagen_2025-06-03_100931774.png
ORGANIZER;CN="Berenice Paredes Duarte":MAILTO:alqhimiacoachmexico@gmail.com
END:VEVENT
BEGIN:VEVENT
DTSTART;TZID=America/Mexico_City:20250718T170000
DTEND;TZID=America/Mexico_City:20250718T190000
DTSTAMP:20260421T045848
CREATED:20250628T183209Z
LAST-MODIFIED:20250628T183209Z
UID:2354-1752858000-1752865200@alqhimiacoachmexico.com
SUMMARY:Viernes 18 de Julio - Circulo de Adolescentes (En Linea)
DESCRIPTION:Un espacio para ti\, donde puedes hablar de tus padres\, tu escuela\, amigos\, pareja\, sexo\, adicciones\, miedos\, orientacion vocacional.\nVEN VAMOS A DIVERTIRNOS Y CHARLAR!\n¡Cupo limitado! No te quedes fuera
URL:https://alqhimiacoachmexico.com/actividades/viernes-18-de-julio-circulo-de-adolescentes-en-linea/
LOCATION:En Linea
CATEGORIES:Circulo de Adolescentes
ATTACH;FMTTYPE=image/png:https://alqhimiacoachmexico.com/wp-content/uploads/2025/06/imagen_2025-06-28_122032591.png
ORGANIZER;CN="Berenice Paredes Duarte":MAILTO:alqhimiacoachmexico@gmail.com
END:VEVENT
BEGIN:VEVENT
DTSTART;TZID=America/Mexico_City:20250724T090000
DTEND;TZID=America/Mexico_City:20250724T180000
DTSTAMP:20260421T045848
CREATED:20250628T183643Z
LAST-MODIFIED:20250628T183643Z
UID:2358-1753347600-1753380000@alqhimiacoachmexico.com
SUMMARY:Jueves 24 de Julio - Circulo de Jovenes (Presencial)
DESCRIPTION:¿Tienes dudas sobre tu futuro? ¿No tienes un plan de vida?\n¿Te sientes perdido? ¿Te da miedo hablar de ciertos temas?\n\n\n\n\n\nUn espacio seguro donde podrás expresarte libremente\, hablar de los temas que te interesan y escuchar a otros que\, como tú\, buscan ser comprendidos sin juicios.\nAquí te escuchamos y no juzgamos.\nAquí tú eliges los temas. Tú guías la conversación. Sin juicios. Sin presiones. Solo un espacio seguro para compartir\, aprender y crecer juntos. Dos sesiones al mes a las 5 pm.\nPREGUNTA LAS FECHAS MENSUALES.\n\n\n¡Cupo limitado! No te quedes fuera
URL:https://alqhimiacoachmexico.com/actividades/jueves-24-de-julio-circulo-de-jovenes-presencial/
LOCATION:Local 21\, Calz Bellavista 11\, local 21\, Hacienda Ojo de Agua\, Ojo de Agua\, Tecámac\, Estado de México\, 55770\, Mexico
CATEGORIES:Circulo de Jovenes
ATTACH;FMTTYPE=image/png:https://alqhimiacoachmexico.com/wp-content/uploads/2025/06/imagen_2025-06-03_100931774.png
ORGANIZER;CN="Berenice Paredes Duarte":MAILTO:alqhimiacoachmexico@gmail.com
END:VEVENT
BEGIN:VEVENT
DTSTART;TZID=America/Mexico_City:20250731T170000
DTEND;TZID=America/Mexico_City:20250731T190000
DTSTAMP:20260421T045848
CREATED:20250628T185425Z
LAST-MODIFIED:20250628T185425Z
UID:2366-1753981200-1753988400@alqhimiacoachmexico.com
SUMMARY:Jueves 31 de Julio - Circulo de Jovenes (En Linea)
DESCRIPTION:¿Tienes dudas sobre tu futuro? ¿No tienes un plan de vida?\n¿Te sientes perdido? ¿Te da miedo hablar de ciertos temas?\n\n\n\n\n\nUn espacio seguro donde podrás expresarte libremente\, hablar de los temas que te interesan y escuchar a otros que\, como tú\, buscan ser comprendidos sin juicios.\nAquí te escuchamos y no juzgamos.\nAquí tú eliges los temas. Tú guías la conversación. Sin juicios. Sin presiones. Solo un espacio seguro para compartir\, aprender y crecer juntos. Dos sesiones al mes a las 5 pm.\nPREGUNTA LAS FECHAS MENSUALES.\n\n\n¡Cupo limitado! No te quedes fuera
URL:https://alqhimiacoachmexico.com/actividades/jueves-31-de-julio-circulo-de-jovenes-en-linea/
LOCATION:En Linea
CATEGORIES:Circulo de Jovenes
ATTACH;FMTTYPE=image/png:https://alqhimiacoachmexico.com/wp-content/uploads/2025/06/imagen_2025-06-03_100931774.png
ORGANIZER;CN="Berenice Paredes Duarte":MAILTO:alqhimiacoachmexico@gmail.com
END:VEVENT
END:VCALENDAR