BEGIN:VCALENDAR
VERSION:2.0
PRODID:-//Alqhimia Coach México A.C.  - ECPv6.15.15//NONSGML v1.0//EN
CALSCALE:GREGORIAN
METHOD:PUBLISH
X-ORIGINAL-URL:https://alqhimiacoachmexico.com
X-WR-CALDESC:Eventos para Alqhimia Coach México A.C. 
REFRESH-INTERVAL;VALUE=DURATION:PT1H
X-Robots-Tag:noindex
X-PUBLISHED-TTL:PT1H
BEGIN:VTIMEZONE
TZID:America/Mexico_City
BEGIN:STANDARD
TZOFFSETFROM:-0600
TZOFFSETTO:-0600
TZNAME:CST
DTSTART:20240101T000000
END:STANDARD
END:VTIMEZONE
BEGIN:VEVENT
DTSTART;TZID=America/Mexico_City:20251210T090000
DTEND;TZID=America/Mexico_City:20251210T180000
DTSTAMP:20260417T130114
CREATED:20251203T120005Z
LAST-MODIFIED:20251203T184354Z
UID:2368-1765357200-1765389600@alqhimiacoachmexico.com
SUMMARY:Taller de Constelaciones Sistémicas
DESCRIPTION:VEN\, REVISEMOS LOS PRINCIPALES BLOQUEOS EN TU VIDA. CONOCE TU FUERZA INTERNA POR MEDIO DE UNA CONSTELACIÓN SISTEMICA. ESTE ES UN ESPACIO SOLO PARA TI. DESCUBRE ESA PARTE DE TI QUE MERECE SER MIRADA\, AMADA Y RESPETADA. \nTemas para revisar en una constelación?\n– Relación con mis hijos\, relación con la pareja\, sentimiento de insuficiencia o abandono\, conflicto con mi padres\, mi relación con el dinero\, problemas laborales\, no encuentro trabajo\, maltrato familiar\, adicciones\, mis responsabilidades\, problemas académicos\, maltrato escolar\, problemas de salud. Mi trabajo\, metas\, objetivos\, carrera profesional\, casas\, mascotas\, cambios\, la vida y muchos más.\nBeneficios de constelar:\n– Desbloquear un tema en tu vida o parte de él.\n– Hacer consciente los temas que son difíciles de mirar estando dentro de un conflicto.\n– Entregar cargas que no te corresponde y así hacer tu vida más ligera.\n– Identificar otros conflictos\, que quizá te resuenen gracias a otras constelaciones en las que puedes participar.\n– Recibes y das ayuda pues entre todos hacemos trabajo en equipo.\n– Libera creencias negativas sobre ti mismo.\nQué son las constelaciones?\n– Es una herramienta terapéutica que nos permite mirar algunos temas con los que tenemos vínculos en forma inconsciente por lo cual lo vemos reflejado en patrones repetitivos en nuestra vida; es un trabajo interno mediante el enfoque sistémico. \nA veces hay situaciones vividas con y por nuestros padres y familiares que quedaron sin resolver y nos mantienen en esta repetición\, por lo tanto\, se ve reflejado en nuestras vidas como bloqueos. Una constelación nos permite mirar\, incluir y reconciliarnos con nosotros mismos y nuestro sistema familiar. Al terminar la constelación algo nos ilumina y jamás será visto igual que antes\, algo cambia\, algo se acomoda y nos da paz.
URL:https://alqhimiacoachmexico.com/actividades/taller-de-constelaciones-sistemicas-8/
LOCATION:Local 21\, Calz Bellavista 11\, local 21\, Hacienda Ojo de Agua\, Ojo de Agua\, Tecámac\, Estado de México\, 55770\, Mexico
CATEGORIES:Talleres
ATTACH;FMTTYPE=image/png:https://alqhimiacoachmexico.com/wp-content/uploads/2025/06/imagen_2025-06-03_014331193.png
ORGANIZER;CN="Berenice Paredes Duarte":MAILTO:alqhimiacoachmexico@gmail.com
END:VEVENT
BEGIN:VEVENT
DTSTART;TZID=America/Mexico_City:20251218T100000
DTEND;TZID=America/Mexico_City:20251218T120000
DTSTAMP:20260417T130114
CREATED:20251113T100033Z
LAST-MODIFIED:20251206T213024Z
UID:2378-1766052000-1766059200@alqhimiacoachmexico.com
SUMMARY:Circulo de Confianza para Mamás
DESCRIPTION:Círculo de Mamás! Una charla muy interesante\, La culpa es algo q siempre va estar como un aviso de que algo hay q mirar.
URL:https://alqhimiacoachmexico.com/actividades/circulo-de-confianza-para-mamas/
LOCATION:Local 21\, Calz Bellavista 11\, local 21\, Hacienda Ojo de Agua\, Ojo de Agua\, Tecámac\, Estado de México\, 55770\, Mexico
CATEGORIES:Talleres
ATTACH;FMTTYPE=image/png:https://alqhimiacoachmexico.com/wp-content/uploads/2025/11/imagen_2025-12-06_153014259.png
ORGANIZER;CN="Berenice Paredes Duarte":MAILTO:alqhimiacoachmexico@gmail.com
END:VEVENT
END:VCALENDAR