BEGIN:VCALENDAR
VERSION:2.0
PRODID:-//Alqhimia Coach México A.C.  - ECPv6.15.15//NONSGML v1.0//EN
CALSCALE:GREGORIAN
METHOD:PUBLISH
X-ORIGINAL-URL:https://alqhimiacoachmexico.com
X-WR-CALDESC:Eventos para Alqhimia Coach México A.C. 
REFRESH-INTERVAL;VALUE=DURATION:PT1H
X-Robots-Tag:noindex
X-PUBLISHED-TTL:PT1H
BEGIN:VTIMEZONE
TZID:America/Mexico_City
BEGIN:STANDARD
TZOFFSETFROM:-0600
TZOFFSETTO:-0600
TZNAME:CST
DTSTART:20230101T000000
END:STANDARD
END:VTIMEZONE
BEGIN:VEVENT
DTSTART;TZID=America/Mexico_City:20241025T170000
DTEND;TZID=America/Mexico_City:20241027T140000
DTSTAMP:20260422T015657
CREATED:20241006T001911Z
LAST-MODIFIED:20241006T002958Z
UID:2230-1729875600-1730037600@alqhimiacoachmexico.com
SUMMARY:El Principio Del Guerrero - Campamento de adolescentes #19
DESCRIPTION:Es una experiencia en donde vamos a jugar\, reír\, llorar\, confrontar todo mediante técnicas coaching y orden sistémico. Trabajamos las 4 consciencias ( mente\, cuerpo\, espíritu y emoción) con la finalidad de que el adolescente encuentre un lugar en donde pueda ser escuchado y comprender sus relaciones mas cercanas. \nDETALLES DEL CAMPAMENTO
URL:https://alqhimiacoachmexico.com/actividades/el-principio-del-guerrero-campamento-de-adolescentes-19/
LOCATION:Ruta Magica – Teotihuacan\, San Martín de las piramides\, Teotihuacan\, Estado de México\, 55854\, Mexico
CATEGORIES:El Principio Del Guerrero
ATTACH;FMTTYPE=image/png:https://alqhimiacoachmexico.com/wp-content/uploads/2024/10/Recurso-1-2.png
ORGANIZER;CN="Berenice Paredes Duarte":MAILTO:alqhimiacoachmexico@gmail.com
END:VEVENT
BEGIN:VEVENT
DTSTART;TZID=America/Mexico_City:20241030T090000
DTEND;TZID=America/Mexico_City:20241030T150000
DTSTAMP:20260422T015657
CREATED:20241006T002205Z
LAST-MODIFIED:20241006T002205Z
UID:2237-1730278800-1730300400@alqhimiacoachmexico.com
SUMMARY:Taller de Constelaciones Sistémicas
DESCRIPTION:Taller para revisar la herramienta terapéutica para revisar y desbloquear temas de vida de cada persona
URL:https://alqhimiacoachmexico.com/actividades/taller-de-constelaciones-sistemicas-4/
LOCATION:Local 21\, Calz Bellavista 11\, local 21\, Hacienda Ojo de Agua\, Ojo de Agua\, Tecámac\, Estado de México\, 55770\, Mexico
CATEGORIES:Talleres
ATTACH;FMTTYPE=image/png:https://alqhimiacoachmexico.com/wp-content/uploads/2024/10/Logo-C.S.png
ORGANIZER;CN="Berenice Paredes Duarte":MAILTO:alqhimiacoachmexico@gmail.com
END:VEVENT
END:VCALENDAR