BEGIN:VCALENDAR
VERSION:2.0
PRODID:-//Alqhimia Coach México A.C.  - ECPv6.15.15//NONSGML v1.0//EN
CALSCALE:GREGORIAN
METHOD:PUBLISH
X-WR-CALNAME:Alqhimia Coach México A.C. 
X-ORIGINAL-URL:https://alqhimiacoachmexico.com
X-WR-CALDESC:Eventos para Alqhimia Coach México A.C. 
REFRESH-INTERVAL;VALUE=DURATION:PT1H
X-Robots-Tag:noindex
X-PUBLISHED-TTL:PT1H
BEGIN:VTIMEZONE
TZID:America/Mexico_City
BEGIN:STANDARD
TZOFFSETFROM:-0600
TZOFFSETTO:-0600
TZNAME:CST
DTSTART:20250101T000000
END:STANDARD
END:VTIMEZONE
BEGIN:VEVENT
DTSTART;TZID=America/Mexico_City:20260220T100000
DTEND;TZID=America/Mexico_City:20260220T170000
DTSTAMP:20260420T182142
CREATED:20260207T231134Z
LAST-MODIFIED:20260207T231134Z
UID:2405-1771581600-1771606800@alqhimiacoachmexico.com
SUMMARY:Circulo de Mujeres
DESCRIPTION:Círculo de Mujeres \nNo es un espacio para solo desahogarse ni revivir historias de dolor.\nEs una escuela viva de conciencia femenina\, donde aprendemos a mirarnos con honestidad\, comprender nuestros patrones y ocupar nuestro lugar con fuerza y amor propio.\n\n\n Tema de la sesión:\nLo que yo creo que es el amor\nExploraremos cómo nuestras ideas sobre el amor influyen en nuestras relaciones\, decisiones y bienestar\, y cómo transformarlas para vivir vínculos más sanos y conscientes.\n\n\n Viernes 06 de febrero\n 10:00 AM\n\n\n Cuando una mujer no está en su lugar\, paga el precio en su cuerpo\, sus relaciones\, su economía y su destino.\nAquí aprendemos a volver a nuestro centro.
URL:https://alqhimiacoachmexico.com/actividades/circulo-de-mujeres/
LOCATION:Local 21\, Calz Bellavista 11\, local 21\, Hacienda Ojo de Agua\, Ojo de Agua\, Tecámac\, Estado de México\, 55770\, Mexico
ATTACH;FMTTYPE=image/png:https://alqhimiacoachmexico.com/wp-content/uploads/2026/02/imagen_2026-02-07_171026310.png
ORGANIZER;CN="Berenice Paredes Duarte":MAILTO:alqhimiacoachmexico@gmail.com
END:VEVENT
BEGIN:VEVENT
DTSTART;TZID=America/Mexico_City:20260220T170000
DTEND;TZID=America/Mexico_City:20260220T190000
DTSTAMP:20260420T182142
CREATED:20251113T100035Z
LAST-MODIFIED:20260207T231417Z
UID:2380-1771606800-1771614000@alqhimiacoachmexico.com
SUMMARY:Circulo de Adolescentes
DESCRIPTION:Un espacio para ti\, donde puedes hablar de tus padres\, tu escuela\, amigos\, pareja\, sexo\, adicciones\, miedos\, orientacion vocacional.\nVEN VAMOS A DIVERTIRNOS Y CHARLAR!\n¡Cupo limitado! No te quedes fuera
URL:https://alqhimiacoachmexico.com/actividades/circulo-de-adolescentes/
LOCATION:Local 21\, Calz Bellavista 11\, local 21\, Hacienda Ojo de Agua\, Ojo de Agua\, Tecámac\, Estado de México\, 55770\, Mexico
CATEGORIES:Circulo de Adolescentes
ATTACH;FMTTYPE=image/png:https://alqhimiacoachmexico.com/wp-content/uploads/2025/06/imagen_2025-06-28_122032591.png
ORGANIZER;CN="Berenice Paredes Duarte":MAILTO:alqhimiacoachmexico@gmail.com
END:VEVENT
BEGIN:VEVENT
DTSTART;TZID=America/Mexico_City:20260222T090000
DTEND;TZID=America/Mexico_City:20260222T170000
DTSTAMP:20260420T182142
CREATED:20260207T231721Z
LAST-MODIFIED:20260207T231721Z
UID:2410-1771750800-1771779600@alqhimiacoachmexico.com
SUMMARY:Taller de Amor en Parejas
DESCRIPTION: Amor en pareja: lo que sientes no es casualidad\, es conciencia (o falta de ella).Este no es un taller para hablar bonito del amor ni para culpar a la pareja.Es un espacio para mirar de frente cómo amas\, desde dónde eliges\, por qué repites patrones y cómo tus creencias están creando tus conflictos o tu paz.En este taller especial vamos a trabajar: Lo que crees que es el amor Cómo eso afecta tu relación hoy Y qué necesitas transformar para construir una relación más sana\, consciente y establePorque muchas relaciones no se rompen por falta de amor…se rompen por heridas no sanadas\, expectativas inconscientes y desorden emocional. Domingo 20 de febrero 9:00 AM Presencial – Alqhimia Coach México Si quieres amar diferente\, primero necesitas comprender diferente.
URL:https://alqhimiacoachmexico.com/actividades/taller-de-amor-en-parejas/
LOCATION:Local 21\, Calz Bellavista 11\, local 21\, Hacienda Ojo de Agua\, Ojo de Agua\, Tecámac\, Estado de México\, 55770\, Mexico
CATEGORIES:Talleres
ATTACH;FMTTYPE=image/png:https://alqhimiacoachmexico.com/wp-content/uploads/2026/02/imagen_2026-02-07_171653762.png
ORGANIZER;CN="Berenice Paredes Duarte":MAILTO:alqhimiacoachmexico@gmail.com
END:VEVENT
BEGIN:VEVENT
DTSTART;TZID=America/Mexico_City:20260227T180000
DTEND;TZID=America/Mexico_City:20260301T150000
DTSTAMP:20260420T182142
CREATED:20260207T232120Z
LAST-MODIFIED:20260207T232120Z
UID:2413-1772215200-1772377200@alqhimiacoachmexico.com
SUMMARY:Campamento "El Principio Del Guerrero"
DESCRIPTION:Como padres queremos que nuestros hijos tomen buenas decisiones\,que tengan seguridad\, claridad y un futuro con sentido.Pero muchas veces no nos damos cuenta de algo importante:la familia influye más de lo que imaginamos en lo que ellos eligen\, en sus miedos y en su rumbo.En el Campamento El Principio del Guerrero ayudamos a jóvenes de 12 a 17 años a entenderse\, fortalecerse por dentro y descubrir su propio camino con conciencia.Aquí trabajan temas como: cómo tomar decisiones con seguridad cómo reconocer presiones familiares sin culpa cómo desarrollar autoestima y responsabilidad cómo construir su vocación desde quienes son\, no desde lo que otros esperanNo es un campamento solo de diversión (aunque se divierten mucho).Es una experiencia que les da herramientas para la vida.Cuando un joven se conoce\, se fortalece.Cuando se fortalece\, elige mejor.Regálele a su hijo una experiencia que puede marcar su futuro.El Principio del Guerrero — formando jóvenes seguros\, conscientes y con dirección.
URL:https://alqhimiacoachmexico.com/actividades/campamento-el-principio-del-guerrero/
LOCATION:Ruta Magica – Teotihuacan\, San Martín de las piramides\, Teotihuacan\, Estado de México\, 55854\, Mexico
CATEGORIES:El Principio Del Guerrero
ATTACH;FMTTYPE=image/png:https://alqhimiacoachmexico.com/wp-content/uploads/2026/02/imagen_2026-02-07_171836429.png
ORGANIZER;CN="Berenice Paredes Duarte":MAILTO:alqhimiacoachmexico@gmail.com
END:VEVENT
END:VCALENDAR