BEGIN:VCALENDAR
VERSION:2.0
PRODID:-//Alqhimia Coach México A.C.  - ECPv6.15.15//NONSGML v1.0//EN
CALSCALE:GREGORIAN
METHOD:PUBLISH
X-ORIGINAL-URL:https://alqhimiacoachmexico.com
X-WR-CALDESC:Eventos para Alqhimia Coach México A.C. 
REFRESH-INTERVAL;VALUE=DURATION:PT1H
X-Robots-Tag:noindex
X-PUBLISHED-TTL:PT1H
BEGIN:VTIMEZONE
TZID:UTC
BEGIN:STANDARD
TZOFFSETFROM:+0000
TZOFFSETTO:+0000
TZNAME:UTC
DTSTART:20240101T000000
END:STANDARD
END:VTIMEZONE
BEGIN:VTIMEZONE
TZID:America/Mexico_City
BEGIN:STANDARD
TZOFFSETFROM:-0600
TZOFFSETTO:-0600
TZNAME:CST
DTSTART:20240101T000000
END:STANDARD
END:VTIMEZONE
BEGIN:VEVENT
DTSTART;TZID=UTC:20250608T090000
DTEND;TZID=UTC:20250608T180000
DTSTAMP:20260421T030557
CREATED:20250603T074432Z
LAST-MODIFIED:20250603T074432Z
UID:2316-1749373200-1749405600@alqhimiacoachmexico.com
SUMMARY:Taller de Constelaciones Sistémicas
DESCRIPTION:𝐓𝐚𝐥𝐥𝐞𝐫 𝐝𝐞 𝐂𝐨𝐧𝐬𝐭𝐞𝐥𝐚𝐜𝐢𝐨𝐧𝐞𝐬 𝐒𝐢𝐬𝐭é𝐦𝐢𝐜𝐚𝐬\nUn espacio terapéutico para comprender y sanar desde el origen\n\n\nA veces\, nuestras emociones\, conflictos o decisiones parecen no tener una explicación clara. Sin embargo\, muchas de estas experiencias están conectadas con dinámicas familiares inconscientes que influyen en nuestro presente.\n\n\nUna herramienta terapéutica recomendada para quienes tienen conflictos de apertura grupal e interacción\, así como personas que prefieren atender algún tema donde consideran mayor intimidad.\nTrabajando con VINCORES\, una herramienta de gran impacto.
URL:https://alqhimiacoachmexico.com/actividades/taller-de-constelaciones-sistemicas-5/
LOCATION:Local 21\, Calz Bellavista 11\, local 21\, Hacienda Ojo de Agua\, Ojo de Agua\, Tecámac\, Estado de México\, 55770\, Mexico
CATEGORIES:Talleres
ATTACH;FMTTYPE=image/png:https://alqhimiacoachmexico.com/wp-content/uploads/2025/06/imagen_2025-06-03_014331193.png
ORGANIZER;CN="Berenice Paredes Duarte":MAILTO:alqhimiacoachmexico@gmail.com
END:VEVENT
BEGIN:VEVENT
DTSTART;TZID=UTC:20250611T090000
DTEND;TZID=UTC:20250611T180000
DTSTAMP:20260421T030557
CREATED:20250603T160013Z
LAST-MODIFIED:20250603T160013Z
UID:2319-1749632400-1749664800@alqhimiacoachmexico.com
SUMMARY:Taller de Constelaciones Sistémicas
DESCRIPTION:𝐓𝐚𝐥𝐥𝐞𝐫 𝐝𝐞 𝐂𝐨𝐧𝐬𝐭𝐞𝐥𝐚𝐜𝐢𝐨𝐧𝐞𝐬 𝐒𝐢𝐬𝐭é𝐦𝐢𝐜𝐚𝐬 𝐈𝐧𝐝𝐢𝐯𝐢𝐝𝐮𝐚𝐥𝐞𝐬\nUn espacio terapéutico para comprender y sanar desde el origen\n\n\nA veces\, nuestras emociones\, conflictos o decisiones parecen no tener una explicación clara. Sin embargo\, muchas de estas experiencias están conectadas con dinámicas familiares inconscientes que influyen en nuestro presente.\n\n\nUna herramienta terapéutica recomendada para quienes tienen conflictos de apertura grupal e interacción\,
URL:https://alqhimiacoachmexico.com/actividades/taller-de-constelaciones-sistemicas-6/
LOCATION:Local 21\, Calz Bellavista 11\, local 21\, Hacienda Ojo de Agua\, Ojo de Agua\, Tecámac\, Estado de México\, 55770\, Mexico
CATEGORIES:Talleres
ATTACH;FMTTYPE=image/png:https://alqhimiacoachmexico.com/wp-content/uploads/2025/06/imagen_2025-06-03_014331193.png
ORGANIZER;CN="Berenice Paredes Duarte":MAILTO:alqhimiacoachmexico@gmail.com
END:VEVENT
BEGIN:VEVENT
DTSTART;TZID=UTC:20250612T170000
DTEND;TZID=UTC:20250612T190000
DTSTAMP:20260421T030557
CREATED:20250603T161044Z
LAST-MODIFIED:20250603T161044Z
UID:2321-1749747600-1749754800@alqhimiacoachmexico.com
SUMMARY:Circulo de Adolescentes (12 A 17 AÑOS)
DESCRIPTION:CIRCULO DE ADOLESCENTES (12 A 17 AÑOS)Un espacio para ti\, donde puedes hablar de tus padres\, tu escuela\, amigos\, pareja\, sexo\, adicciones\, miedos\, orientación vocacional.VEN VAMOS A DIVERTIRNOS Y CHARLAR!
URL:https://alqhimiacoachmexico.com/actividades/circulo-de-adolescentes-12-a-17-anos/
LOCATION:Local 21\, Calz Bellavista 11\, local 21\, Hacienda Ojo de Agua\, Ojo de Agua\, Tecámac\, Estado de México\, 55770\, Mexico
CATEGORIES:Circulo de Adolescentes
ATTACH;FMTTYPE=image/png:https://alqhimiacoachmexico.com/wp-content/uploads/2025/06/imagen_2025-06-03_100931774.png
ORGANIZER;CN="Berenice Paredes Duarte":MAILTO:alqhimiacoachmexico@gmail.com
END:VEVENT
BEGIN:VEVENT
DTSTART;TZID=UTC:20250613T170000
DTEND;TZID=UTC:20250613T190000
DTSTAMP:20260421T030557
CREATED:20250603T162144Z
LAST-MODIFIED:20250603T162144Z
UID:2324-1749834000-1749841200@alqhimiacoachmexico.com
SUMMARY:Circulo de Jóvenes (18 a 25 años)
DESCRIPTION:JÓVENES (18 a 25 años)\nUn espacio para ti\, donde puedes hablar de tus padres\, tu escuela\, amigos\, pareja\, sexo\, adicciones\, miedos\, orientación vocacional.\nVEN VAMOS A DIVERTIRNOS Y CHARLAR!
URL:https://alqhimiacoachmexico.com/actividades/circulo-de-jovenes-18-a-25-anos/
LOCATION:Local 21\, Calz Bellavista 11\, local 21\, Hacienda Ojo de Agua\, Ojo de Agua\, Tecámac\, Estado de México\, 55770\, Mexico
CATEGORIES:Circulo de Jovenes
ATTACH;FMTTYPE=image/png:https://alqhimiacoachmexico.com/wp-content/uploads/2025/06/imagen_2025-06-03_100931774.png
ORGANIZER;CN="Berenice Paredes Duarte":MAILTO:alqhimiacoachmexico@gmail.com
END:VEVENT
BEGIN:VEVENT
DTSTART;TZID=UTC:20250620T160000
DTEND;TZID=UTC:20250622T130000
DTSTAMP:20260421T030557
CREATED:20250603T162657Z
LAST-MODIFIED:20250603T162657Z
UID:2326-1750435200-1750597200@alqhimiacoachmexico.com
SUMMARY:Campamento Adolescentes - "El Principio Del Guerrero"
DESCRIPTION:CAMPAMENTO ADOLESCENTE De 12 a 17 años“𝙀𝙇 𝙋𝙍𝙄𝙉𝘾𝙄𝙋𝙄𝙊 𝘿𝙀𝙇 𝙂𝙐𝙀𝙍𝙍𝙀𝙍𝙊”20\, 21\, 22 JUNIO / 2025 APARTA TU LUGAREl adolescente esta buscando su identidad\, ayudémosle a que encuentren el acompañamiento confiable. Hablaremos de la familia\, los padres\, los amigos\, la escuela\, las expectativas\, la soledad\, el miedo\, las emociones… Y MUCHO MAS.
URL:https://alqhimiacoachmexico.com/actividades/campamento-adolescentes-el-principio-del-guerrero/
LOCATION:Ruta Magica – Teotihuacan\, San Martín de las piramides\, Teotihuacan\, Estado de México\, 55854\, Mexico
CATEGORIES:El Principio Del Guerrero
ATTACH;FMTTYPE=image/png:https://alqhimiacoachmexico.com/wp-content/uploads/2025/06/imagen_2025-06-03_102610276.png
ORGANIZER;CN="Berenice Paredes Duarte":MAILTO:alqhimiacoachmexico@gmail.com
END:VEVENT
BEGIN:VEVENT
DTSTART;TZID=UTC:20250625T090000
DTEND;TZID=UTC:20250625T180000
DTSTAMP:20260421T030557
CREATED:20250603T163243Z
LAST-MODIFIED:20250603T163243Z
UID:2329-1750842000-1750874400@alqhimiacoachmexico.com
SUMMARY:Taller de Constelaciones Sistémicas
DESCRIPTION:𝐓𝐚𝐥𝐥𝐞𝐫 𝐝𝐞 𝐂𝐨𝐧𝐬𝐭𝐞𝐥𝐚𝐜𝐢𝐨𝐧𝐞𝐬 𝐒𝐢𝐬𝐭é𝐦𝐢𝐜𝐚𝐬\nUn espacio terapéutico para comprender y sanar desde el origen\n\n\nA veces\, nuestras emociones\, conflictos o decisiones parecen no tener una explicación clara. Sin embargo\, muchas de estas experiencias están conectadas con dinámicas familiares inconscientes que influyen en nuestro presente.\n\n\nUna herramienta terapéutica recomendada para quienes tienen conflictos de apertura grupal e interacción\, así como personas que prefieren atender algún tema donde consideran mayor intimidad.\nTrabajando con VINCORES\, una herramienta de gran impacto.
URL:https://alqhimiacoachmexico.com/actividades/taller-de-constelaciones-sistemicas-7/
LOCATION:Local 21\, Calz Bellavista 11\, local 21\, Hacienda Ojo de Agua\, Ojo de Agua\, Tecámac\, Estado de México\, 55770\, Mexico
CATEGORIES:Talleres
ATTACH;FMTTYPE=image/png:https://alqhimiacoachmexico.com/wp-content/uploads/2025/06/imagen_2025-06-03_014331193.png
ORGANIZER;CN="Berenice Paredes Duarte":MAILTO:alqhimiacoachmexico@gmail.com
END:VEVENT
BEGIN:VEVENT
DTSTART;TZID=UTC:20250627T170000
DTEND;TZID=UTC:20250627T190000
DTSTAMP:20260421T030557
CREATED:20250603T164146Z
LAST-MODIFIED:20250603T164146Z
UID:2331-1751043600-1751050800@alqhimiacoachmexico.com
SUMMARY:Circulo de Jóvenes (18 a 25 años)
DESCRIPTION:JOVENES (18 a 25 años)\nUn espacio para ti\, donde puedes hablar de tus padres\, tu escuela\, amigos\, pareja\, sexo\, adicciones\, miedos\, orientación vocacional.\nVEN VAMOS A DIVERTIRNOS Y CHARLAR!
URL:https://alqhimiacoachmexico.com/actividades/circulo-de-jovenes-18-a-25-anos-2/
LOCATION:Local 21\, Calz Bellavista 11\, local 21\, Hacienda Ojo de Agua\, Ojo de Agua\, Tecámac\, Estado de México\, 55770\, Mexico
CATEGORIES:Circulo de Jovenes
ATTACH;FMTTYPE=image/png:https://alqhimiacoachmexico.com/wp-content/uploads/2025/06/imagen_2025-06-03_100931774.png
ORGANIZER;CN="Berenice Paredes Duarte":MAILTO:alqhimiacoachmexico@gmail.com
END:VEVENT
BEGIN:VEVENT
DTSTART;TZID=America/Mexico_City:20250628T080000
DTEND;TZID=America/Mexico_City:20250628T170000
DTSTAMP:20260421T030557
CREATED:20250628T181054Z
LAST-MODIFIED:20250628T181152Z
UID:2340-1751097600-1751130000@alqhimiacoachmexico.com
SUMMARY:Domingo 6 de Julio - Taller Para Padres de Hijos Adolescentes
DESCRIPTION:Ahora le toca a los Padres! LOS PADRES SOMOS EL CAMBIO\n¿Te has preguntado si lo estás haciendo bien como papá o mamá?\n\n\n\nLa adolescencia llega sin aviso y sin manual.\nDe repente\, ese niño dulce se convierte en un adolescente desafiante\, silencioso o rebelde… y tú te preguntas:\n¿Qué hice mal? ¿Cómo lo guío sin perderme a mí en el camino? o te vuelves tan desafiante como él/ella?\nEste taller es para ti\, que estás criando a un hijo o hija entre los 12 y 21 años\, y sientes que ser madre o padre nunca ha sido tan complejo como ahora.\nPorque muchas veces criamos desde lo que nos dieron… o desde lo que nos faltó.\nAPARTA TU LUGAR! POCOS LUGARES
URL:https://alqhimiacoachmexico.com/actividades/domingo-6-de-julio-taller-para-padres-de-hijos-adolescentes/
LOCATION:Local 21\, Calz Bellavista 11\, local 21\, Hacienda Ojo de Agua\, Ojo de Agua\, Tecámac\, Estado de México\, 55770\, Mexico
CATEGORIES:Talleres
ATTACH;FMTTYPE=image/png:https://alqhimiacoachmexico.com/wp-content/uploads/2024/10/Recurso-2.png
ORGANIZER;CN="Berenice Paredes Duarte":MAILTO:alqhimiacoachmexico@gmail.com
END:VEVENT
BEGIN:VEVENT
DTSTART;TZID=UTC:20250629T090000
DTEND;TZID=UTC:20250629T190000
DTSTAMP:20260421T030557
CREATED:20250603T165519Z
LAST-MODIFIED:20250603T165519Z
UID:2333-1751187600-1751223600@alqhimiacoachmexico.com
SUMMARY:Taller temático: "Sanando a papá en mi"
DESCRIPTION:TALLER: SANANDO A PAPÁ EN MÍ \nEl taller te brindará una mayor comprensión de la fuerza de tu padre en tu vida. Podrás descubrir herramientas para liberar tu historia de dolor\, enojo o tristeza en la relación con papá y transformarla en fortalezas para tu vida.
URL:https://alqhimiacoachmexico.com/actividades/taller-tematico-sanando-a-papa-en-mi/
LOCATION:Local 21\, Calz Bellavista 11\, local 21\, Hacienda Ojo de Agua\, Ojo de Agua\, Tecámac\, Estado de México\, 55770\, Mexico
CATEGORIES:Talleres
ATTACH;FMTTYPE=image/png:https://alqhimiacoachmexico.com/wp-content/uploads/2025/06/imagen_2025-06-03_105307300.png
ORGANIZER;CN="Berenice Paredes Duarte":MAILTO:alqhimiacoachmexico@gmail.com
END:VEVENT
END:VCALENDAR